BEGIN:VCALENDAR
VERSION:2.0
PRODID:-//Knights of the Precious Blood - ECPv6.13.0//NONSGML v1.0//EN
CALSCALE:GREGORIAN
METHOD:PUBLISH
X-WR-CALNAME:Knights of the Precious Blood
X-ORIGINAL-URL:https://www.kofpb.org
X-WR-CALDESC:Events for Knights of the Precious Blood
REFRESH-INTERVAL;VALUE=DURATION:PT1H
X-Robots-Tag:noindex
X-PUBLISHED-TTL:PT1H
BEGIN:VTIMEZONE
TZID:Australia/Sydney
BEGIN:STANDARD
TZOFFSETFROM:+1100
TZOFFSETTO:+1000
TZNAME:AEST
DTSTART:20260404T160000
END:STANDARD
BEGIN:DAYLIGHT
TZOFFSETFROM:+1000
TZOFFSETTO:+1100
TZNAME:AEDT
DTSTART:20261003T160000
END:DAYLIGHT
END:VTIMEZONE
BEGIN:VEVENT
DTSTART;TZID=Australia/Sydney:20260506T193000
DTEND;TZID=Australia/Sydney:20260506T213000
DTSTAMP:20260424T081959
CREATED:20241229T232642Z
LAST-MODIFIED:20260406T082056Z
UID:4315-1778095800-1778103000@www.kofpb.org
SUMMARY:Men's Group - Summer Hill "As iron sharpens iron\, man sharpens man" Prov 27:17
DESCRIPTION:Come and join like minded men\, we meet every first Wednesday of the month (exception being January)\, JP2 Youth Centre (underneath church).
URL:https://www.kofpb.org/event/mens-group-summer-hill-as-iron-sharpens-iron-man-sharpens-man-prov-2717-22/
LOCATION:Hrvatski Katolicki Centre Summer Hill\, 15 Prospect Rd\, Ashfield\, NSW\, 2130\, Australia
CATEGORIES:Men's Group
ATTACH;FMTTYPE=image/jpeg:https://www.kofpb.org/wp-content/uploads/2025/01/summer-hill-mens-group-button.jpg
END:VEVENT
BEGIN:VEVENT
DTSTART;TZID=Australia/Sydney:20260603T193000
DTEND;TZID=Australia/Sydney:20260603T213000
DTSTAMP:20260424T081959
CREATED:20241229T232510Z
LAST-MODIFIED:20260406T082207Z
UID:4312-1780515000-1780522200@www.kofpb.org
SUMMARY:Men's Group - Summer Hill "As iron sharpens iron\, man sharpens man" Prov 27:17
DESCRIPTION:Come and join like minded men\, we meet every first Wednesday of the month (exception being January)\, JP2 Youth Centre (underneath church).
URL:https://www.kofpb.org/event/mens-group-summer-hill-as-iron-sharpens-iron-man-sharpens-man-prov-2717-21/
LOCATION:Hrvatski Katolicki Centre Summer Hill\, 15 Prospect Rd\, Ashfield\, NSW\, 2130\, Australia
CATEGORIES:Men's Group
ATTACH;FMTTYPE=image/jpeg:https://www.kofpb.org/wp-content/uploads/2025/01/summer-hill-mens-group-button.jpg
END:VEVENT
END:VCALENDAR